BEGIN:VCALENDAR
VERSION:2.0
PRODID:-//Znip Academy - ECPv6.15.20//NONSGML v1.0//EN
CALSCALE:GREGORIAN
METHOD:PUBLISH
X-WR-CALNAME:Znip Academy
X-ORIGINAL-URL:https://znip.academy
X-WR-CALDESC:Veranstaltungen für Znip Academy
REFRESH-INTERVAL;VALUE=DURATION:PT1H
X-Robots-Tag:noindex
X-PUBLISHED-TTL:PT1H
BEGIN:VTIMEZONE
TZID:Europe/Berlin
BEGIN:DAYLIGHT
TZOFFSETFROM:+0100
TZOFFSETTO:+0200
TZNAME:CEST
DTSTART:20250330T010000
END:DAYLIGHT
BEGIN:STANDARD
TZOFFSETFROM:+0200
TZOFFSETTO:+0100
TZNAME:CET
DTSTART:20251026T010000
END:STANDARD
BEGIN:DAYLIGHT
TZOFFSETFROM:+0100
TZOFFSETTO:+0200
TZNAME:CEST
DTSTART:20260329T010000
END:DAYLIGHT
BEGIN:STANDARD
TZOFFSETFROM:+0200
TZOFFSETTO:+0100
TZNAME:CET
DTSTART:20261025T010000
END:STANDARD
BEGIN:DAYLIGHT
TZOFFSETFROM:+0100
TZOFFSETTO:+0200
TZNAME:CEST
DTSTART:20270328T010000
END:DAYLIGHT
BEGIN:STANDARD
TZOFFSETFROM:+0200
TZOFFSETTO:+0100
TZNAME:CET
DTSTART:20271031T010000
END:STANDARD
BEGIN:DAYLIGHT
TZOFFSETFROM:+0100
TZOFFSETTO:+0200
TZNAME:CEST
DTSTART:20280326T010000
END:DAYLIGHT
BEGIN:STANDARD
TZOFFSETFROM:+0200
TZOFFSETTO:+0100
TZNAME:CET
DTSTART:20281029T010000
END:STANDARD
END:VTIMEZONE
BEGIN:VEVENT
DTSTART;TZID=Europe/Berlin:20260421T170000
DTEND;TZID=Europe/Berlin:20260421T190000
DTSTAMP:20260420T024456
CREATED:20260116T135155Z
LAST-MODIFIED:20260311T085008Z
UID:10000012-1776790800-1776798000@znip.academy
SUMMARY:Supervision - TeamworksPLUS® Gruppe 20 - mit Thorsten Visbal
DESCRIPTION:
URL:https://znip.academy/event/supervision-teamworksplus-gruppe-20-mit-thorsten-visbal/
LOCATION:Online
CATEGORIES:Supervision
END:VEVENT
BEGIN:VEVENT
DTSTART;TZID=Europe/Berlin:20260422T180000
DTEND;TZID=Europe/Berlin:20260422T190000
DTSTAMP:20260420T024456
CREATED:20260413T082044Z
LAST-MODIFIED:20260413T082044Z
UID:10000043-1776880800-1776884400@znip.academy
SUMMARY:TeamworksPLUS® Informations Abend 22.04.2026
DESCRIPTION:Du hast schon viel von der zertifizierten TeamworksPLUS® Ausbildung zur Teamgestalterin gehört und möchtest nun mehr wissen? \nDich interessiert vor allem\, was wir mit der nächsten Ausbildungsgruppe alles ändern? \nDie TeamworksPLUS® Gruppe 21 steht in den Startlöchern. Am 25.06.2026 geht es los und wir sagen ganz offen: Wer die Ausbildung zum zertifizierten Teamgestalter noch einmal im Norden erleben möchte\, sollte jetzt zuschlagen. Nach dieser Runde zieht es uns weiter nach Wolfsburg und Frankfurt.\nWarum du gerade jetzt dabei sein solltest? Wir (Janina Kappelhoff und Henry Schneider) haben das bewährte Konzept der Teamworks GTQ GmbH angepasst und massiv mit Praxiserfahrung aufgeladen. Freu dich auf: \n🤖 KI in Teams: Wie verändern Sprachmodelle und KI-Tools die Zusammenarbeit? Wir zeigen dir\, wie du Teams hier sicher moderierst. \n🛡️ Umgang mit Widerständen: Wenn es hakt\, wird es spannend. Wir geben dir die Werkzeuge an die Hand\, um Blockaden in Bewegung zu verwandeln. \n💻 Exklusive Lernplattform: Dein Lernen hört nicht im Seminarraum auf. Mit unserer neuen Plattform begleiten wir dich digital und nachhaltig.\nWerde zertifizierter Teamgestalter und gestalte die Arbeitswelt von morgen aktiv mit. \nDann komm in unseren Infoabend und erfahre mehr Details zur Ausbildung und bekomm all Deine Fragen direkt geklärt. 🙂 \nIdeal für alle\, die mit Teams zu tun haben\, also für Teamleiter und Führungskräfte. 🤗 \nhttps://znip.academy/twp
URL:https://znip.academy/event/teamworksplus-informations-abend-2-04-2026/
LOCATION:https://znip.academy/zoom\, online
CATEGORIES:Informationsveranstaltung
ATTACH;FMTTYPE=image/png:https://znip.academy/wp-content/uploads/2024/02/2021-Siegel-TWP-Teamgestalter-300.png
ORGANIZER;CN="Znip Academy":MAILTO:hello@znip.academy
END:VEVENT
BEGIN:VEVENT
DTSTART;TZID=Europe/Berlin:20260422T200000
DTEND;TZID=Europe/Berlin:20260422T213000
DTSTAMP:20260420T024456
CREATED:20260325T093502Z
LAST-MODIFIED:20260325T100110Z
UID:10000042-1776888000-1776893400@znip.academy
SUMMARY:Heldentreff - Future Present (Liberating Structure)
DESCRIPTION:Online über Zoom (Meeting-ID: 837 2685 5477 – Kenncode: 241786) \nWir schauen uns die Liberating Structure Future Present an und wie man daraus einen Workshop gestalten könnte.
URL:https://znip.academy/event/heldentreff-future-present/
LOCATION:Online
CATEGORIES:Heldentreff
ORGANIZER;CN="Znip Academy":MAILTO:hello@znip.academy
END:VEVENT
BEGIN:VEVENT
DTSTART;VALUE=DATE:20260424
DTEND;VALUE=DATE:20260427
DTSTAMP:20260420T024456
CREATED:20260116T135930Z
LAST-MODIFIED:20260116T135930Z
UID:10000013-1776988800-1777247999@znip.academy
SUMMARY:Leadership Stars Meeting by Olaf Kapinski
DESCRIPTION:
URL:https://znip.academy/event/leadership-stars-meeting-by-olaf-kapinski/
LOCATION:Budapest\, Hungary
CATEGORIES:MeetUp
ORGANIZER;CN="Znip Academy":MAILTO:hello@znip.academy
END:VEVENT
BEGIN:VEVENT
DTSTART;TZID=Europe/Berlin:20260520T150000
DTEND;TZID=Europe/Berlin:20260520T200000
DTSTAMP:20260420T024456
CREATED:20260116T140559Z
LAST-MODIFIED:20260116T205841Z
UID:10000014-1779289200-1779307200@znip.academy
SUMMARY:Menschen lesen Modul 1
DESCRIPTION:Modul Business \nhttps://znip.academy/mk
URL:https://znip.academy/event/menschen-lesen-modul-1/
LOCATION:Online
CATEGORIES:Modul,Seminar
ATTACH;FMTTYPE=image/png:https://znip.academy/wp-content/uploads/2022/11/Menschen_lesen_Modul_1.png
ORGANIZER;CN="Znip Academy":MAILTO:hello@znip.academy
END:VEVENT
BEGIN:VEVENT
DTSTART;VALUE=DATE:20260521
DTEND;VALUE=DATE:20260524
DTSTAMP:20260420T024456
CREATED:20260119T092404Z
LAST-MODIFIED:20260119T093715Z
UID:10000019-1779321600-1779580799@znip.academy
SUMMARY:TeamworksPLUS® Gruppe 20 - Modul 4
DESCRIPTION:Werte- und Kulturwandel
URL:https://znip.academy/event/teamworksplus-gruppe-20-modul-4/
LOCATION:Pilatuspool – Hamburg\, Pilatuspool 7a\, Hamburg\, Niedersachsen\, 20355\, Germany
CATEGORIES:Ausbildung,Modul
ATTACH;FMTTYPE=image/png:https://znip.academy/wp-content/uploads/2024/02/2021-Siegel-TWP-Teamgestalter-300.png
END:VEVENT
BEGIN:VEVENT
DTSTART;TZID=Europe/Berlin:20260527T150000
DTEND;TZID=Europe/Berlin:20260527T200000
DTSTAMP:20260420T024456
CREATED:20260119T083351Z
LAST-MODIFIED:20260119T084448Z
UID:10000015-1779894000-1779912000@znip.academy
SUMMARY:Menschen lesen Modul 2
DESCRIPTION:Modul Privat \nhttps://znip.academy/mk
URL:https://znip.academy/event/menschen-lesen-modul-2/
LOCATION:Online
CATEGORIES:Modul,Seminar
ATTACH;FMTTYPE=image/png:https://znip.academy/wp-content/uploads/2022/11/Menschen_lesen_Modul_2.png
ORGANIZER;CN="Znip Academy":MAILTO:hello@znip.academy
END:VEVENT
BEGIN:VEVENT
DTSTART;TZID=Europe/Berlin:20260604T170000
DTEND;TZID=Europe/Berlin:20260604T183000
DTSTAMP:20260420T024456
CREATED:20260119T102711Z
LAST-MODIFIED:20260311T084842Z
UID:10000033-1780592400-1780597800@znip.academy
SUMMARY:Supervision - TeamworksPLUS® Gruppe 20 - mit Svenja Hofert
DESCRIPTION:Prüfungssupervision
URL:https://znip.academy/event/supervision-teamworksplus-gruppe-20-mit-svenja-hofert-2/
LOCATION:Online
CATEGORIES:Supervision
END:VEVENT
BEGIN:VEVENT
DTSTART;TZID=Europe/Berlin:20260610T150000
DTEND;TZID=Europe/Berlin:20260610T200000
DTSTAMP:20260420T024456
CREATED:20260119T083548Z
LAST-MODIFIED:20260119T084421Z
UID:10000016-1781103600-1781121600@znip.academy
SUMMARY:Menschen lesen Modul 3
DESCRIPTION:Modul Freizeit \nhttps://znip.academy/mk
URL:https://znip.academy/event/menschen-lesen-modul-3/
LOCATION:Online
CATEGORIES:Modul,Seminar
ATTACH;FMTTYPE=image/png:https://znip.academy/wp-content/uploads/2022/11/Menschen_lesen_Modul_3.png
ORGANIZER;CN="Znip Academy":MAILTO:hello@znip.academy
END:VEVENT
BEGIN:VEVENT
DTSTART;TZID=Europe/Berlin:20260617T150000
DTEND;TZID=Europe/Berlin:20260617T180000
DTSTAMP:20260420T024456
CREATED:20260119T084623Z
LAST-MODIFIED:20260119T084623Z
UID:10000017-1781708400-1781719200@znip.academy
SUMMARY:Menschen lesen Modul 4
DESCRIPTION:Modul Extras \nhttps://znip.academy/mk
URL:https://znip.academy/event/menschen-lesen-modul-4/
LOCATION:Online
CATEGORIES:Modul,Seminar
ATTACH;FMTTYPE=image/png:https://znip.academy/wp-content/uploads/2022/11/Menschen_lesen_Bundle.png
ORGANIZER;CN="Znip Academy":MAILTO:hello@znip.academy
END:VEVENT
BEGIN:VEVENT
DTSTART;VALUE=DATE:20260623
DTEND;VALUE=DATE:20260624
DTSTAMP:20260420T024456
CREATED:20260311T085246Z
LAST-MODIFIED:20260311T085246Z
UID:10000039-1782172800-1782259199@znip.academy
SUMMARY:Letzter Tag für Anmeldung Prüfung & Fallanamnese - Gruppe 20
DESCRIPTION:
URL:https://znip.academy/event/letzter-tag-fuer-anmeldung-pruefung-fallanamnese-gruppe-20/
CATEGORIES:Deadline
END:VEVENT
BEGIN:VEVENT
DTSTART;VALUE=DATE:20260625
DTEND;VALUE=DATE:20260628
DTSTAMP:20260420T024456
CREATED:20260116T134824Z
LAST-MODIFIED:20260330T120827Z
UID:10000011-1782345600-1782604799@znip.academy
SUMMARY:TeamworksPLUS® Gruppe 21 - Modul 1
DESCRIPTION:Teams und Entwicklung: Fundamente bauen\nWas sind Teamprozesse? Welche Dynamiken gibt es? Unser Basismodul von TeamworksPLUS® bietet einen komprimierten Grundkurs in Teamentwicklung. Wir vermitteln die wichtigsten gruppendynamischen Konzepte. Das Modul führt Sie ein in die Grundlagen der funktionellen Teamarbeit als essenzielle Basis des Teamentwicklungsprozesses. \n\nIch-Ebene: Emotionen und Entwicklung\, Haltung und Rolle\nWir-Ebene: Teamentwicklungsmodell (Unterschied Teambildung und Teamcoaching)\, Gruppendynamiken\, Teamrollen\, Funktionen und Dysfunktionen\nPraxis-Ebene: Auftragsklärung\, Mikrostrukturen\nToolbox: Teamrollen\, Dysfunktionen\, Teamumfeldanalyse u.v.m.
URL:https://znip.academy/event/teamworksplus-gruppe-21-modul-1/
LOCATION:Pilatuspool – Hamburg\, Pilatuspool 7a\, Hamburg\, Niedersachsen\, 20355\, Germany
CATEGORIES:Ausbildung,Modul
ATTACH;FMTTYPE=image/png:https://znip.academy/wp-content/uploads/2024/02/2021-Siegel-TWP-Teamgestalter-300.png
ORGANIZER;CN="Znip Academy":MAILTO:hello@znip.academy
END:VEVENT
BEGIN:VEVENT
DTSTART;TZID=Europe/Berlin:20260715T183000
DTEND;TZID=Europe/Berlin:20260715T210000
DTSTAMP:20260420T024456
CREATED:20260122T083117Z
LAST-MODIFIED:20260122T083117Z
UID:10000034-1784140200-1784149200@znip.academy
SUMMARY:Agile Wednesday Hannover - Agile Unicorn Game
DESCRIPTION:
URL:https://znip.academy/event/agile-wednesday-hannover-agile-unicorn-game/
LOCATION:Hannover\, Hannover\, Niedersachsen\, Germany
CATEGORIES:Community
END:VEVENT
BEGIN:VEVENT
DTSTART;TZID=Europe/Berlin:20260819T183000
DTEND;TZID=Europe/Berlin:20260819T210000
DTSTAMP:20260420T024456
CREATED:20260122T083453Z
LAST-MODIFIED:20260122T083610Z
UID:10000035-1787164200-1787173200@znip.academy
SUMMARY:Agile Wednesday Hannover - Teamrollen nach Belbin und andere Persönlichkeitstests
DESCRIPTION:
URL:https://znip.academy/event/agile-wednesday-hannover-teamrollen-nach-belbin-und-andere-persoenlichkeitstests/
LOCATION:Hannover\, Hannover\, Niedersachsen\, Germany
CATEGORIES:Community,MeetUp
END:VEVENT
BEGIN:VEVENT
DTSTART;VALUE=DATE:20260910
DTEND;VALUE=DATE:20260913
DTSTAMP:20260420T024456
CREATED:20260119T084933Z
LAST-MODIFIED:20260330T120858Z
UID:10000018-1788998400-1789257599@znip.academy
SUMMARY:TeamworksPLUS® Gruppe 21 - Modul 2
DESCRIPTION:Persönlichkeit und Veränderung\nIm Ausbildungsmodul “Persönlichkeit und Veränderung” geht es  um die aktive Gestaltung von Veränderungsprozessen auf den Ebenen Ich\, Wir und Praxis. Ein Schwerpunkt auf der Ich-Ebene sind Stärken\, Potenziale als Entwicklungsmöglichkeiten und Motive sowie Motivation für Veränderung. Auf der Wir-Ebene betrachten wir kollektive und emotionale Veränderungsverläufe und lernen Tools und Methoden kennen\, um Veränderung zu reflektieren. Auf der Praxis-Ebene beschäftigen wir uns mit Figurenaufstellungen im Rahmen von persönlicher und organisationaler Veränderung. \n\n\n\n\n\nIch-Ebene: Stärken für des Individuum und die Teampersönlichkeit\, Potenziale als Entwicklungsmöglichkeiten\, Entwicklungsbaum\, Motive und Motivation\nWir-Ebene: Emotionaler Verlauf in Veränderungen\, Haus und Zimmer der Veränderung\nPraxis-Ebene: Figuren-Aufstellungen\, Umgang mit Ängsten\nToolbox: Svenja Hofert’s StärkenNavigator (Online und als Kartenspiel mit Poster)\, Motivduett u.v.m.
URL:https://znip.academy/event/teamworksplus-gruppe-21-modul-2/
LOCATION:Pilatuspool – Hamburg\, Pilatuspool 7a\, Hamburg\, Niedersachsen\, 20355\, Germany
CATEGORIES:Ausbildung,Modul
ATTACH;FMTTYPE=image/png:https://znip.academy/wp-content/uploads/2024/02/2021-Siegel-TWP-Teamgestalter-300.png
ORGANIZER;CN="Znip Academy":MAILTO:hello@znip.academy
END:VEVENT
BEGIN:VEVENT
DTSTART;VALUE=DATE:20260923
DTEND;VALUE=DATE:20260924
DTSTAMP:20260420T024456
CREATED:20260311T085351Z
LAST-MODIFIED:20260311T085458Z
UID:10000040-1790121600-1790207999@znip.academy
SUMMARY:Letzter Tag für Abgabe Fortschrittsbericht für Prüfung - Gruppe 20
DESCRIPTION:
URL:https://znip.academy/event/letzter-tag-fuer-abgabe-fortschrittsbericht-fuer-pruefung-gruppe-20/
CATEGORIES:Deadline
END:VEVENT
BEGIN:VEVENT
DTSTART;VALUE=DATE:20260924
DTEND;VALUE=DATE:20260927
DTSTAMP:20260420T024456
CREATED:20260119T094049Z
LAST-MODIFIED:20260119T094049Z
UID:10000021-1790208000-1790467199@znip.academy
SUMMARY:TeamworksPLUS® Gruppe 20 - Modul 5
DESCRIPTION:Innovation und Teamspiele
URL:https://znip.academy/event/teamworksplus-gruppe-20-modul-5/
LOCATION:Pilatuspool – Hamburg\, Pilatuspool 7a\, Hamburg\, Niedersachsen\, 20355\, Germany
CATEGORIES:Ausbildung,Modul
ATTACH;FMTTYPE=image/png:https://znip.academy/wp-content/uploads/2024/02/2021-Siegel-TWP-Teamgestalter-300.png
END:VEVENT
BEGIN:VEVENT
DTSTART;VALUE=DATE:20261001
DTEND;VALUE=DATE:20261003
DTSTAMP:20260420T024456
CREATED:20260114T144146Z
LAST-MODIFIED:20260114T144146Z
UID:10000008-1790812800-1790985599@znip.academy
SUMMARY:EMPOWER. MeetUp 2026 - MUTräume
DESCRIPTION:Unser MeetUp für ein starkes Netzwerk rund um Teamentwicklung und Agilität. \nDiesjähriges Schirmthema: MUTräume
URL:https://znip.academy/event/empower-meetup-2026-mutraeume/
LOCATION:Courtyard Wolfsburg\, Allerpark 8\, Wolfsburg\, Niedersachsen\, 38448\, Germany
CATEGORIES:MeetUp
ATTACH;FMTTYPE=image/jpeg:https://znip.academy/wp-content/uploads/2026/01/EMPOWER_2026_Mutraeume.avif
ORGANIZER;CN="Znip Academy":MAILTO:hello@znip.academy
END:VEVENT
BEGIN:VEVENT
DTSTART;VALUE=DATE:20261023
DTEND;VALUE=DATE:20261024
DTSTAMP:20260420T024456
CREATED:20260119T094227Z
LAST-MODIFIED:20260119T095955Z
UID:10000022-1792713600-1792799999@znip.academy
SUMMARY:TeamworksPLUS® Gruppe 20 - Prüfung
DESCRIPTION:Prüfung
URL:https://znip.academy/event/teamworksplus-gruppe-20-pruefung/
LOCATION:Online
CATEGORIES:Ausbildung,Modul
ATTACH;FMTTYPE=image/png:https://znip.academy/wp-content/uploads/2024/02/2021-Siegel-TWP-Teamgestalter-300.png
END:VEVENT
BEGIN:VEVENT
DTSTART;VALUE=DATE:20261112
DTEND;VALUE=DATE:20261115
DTSTAMP:20260420T024456
CREATED:20260119T093925Z
LAST-MODIFIED:20260330T120925Z
UID:10000020-1794441600-1794700799@znip.academy
SUMMARY:TeamworksPLUS® Gruppe 21 - Modul 3
DESCRIPTION:Führung und Konflikte\nWie führt man lateral? Was tun bei Konflikten in Team? Im dritten Ausbildungsmodul TeamworksPLUS® Ausbildung für agile Teamentwicklung stehen die Themen Führung und Konflikte im Zentrum. Sie reflektieren Ihre Haltung und verstehen\, wie sich Führung verteilen lässt. In diesem Modul verteilt sich die Ich- und Wir-Ebene\, d.h. sowohl das Thema Führung als auch Konflikte hat einen Ich- und einen Wir-Anteil. \n\n\n\n\n\nFührung: Leadership (Ich)\, Führungskonzepte\, agile Ansätze\, verteilte Führung (Wir)\nKonflikte: Haltung und Prinzipien (Ich)\, Konflikte in Veränderungssituationen\, Konfliktmoderation (Wir)\nPraxis-Ebene: Umgang mit Widerständen\, Verbesserung der eigenen Feedbackqualität\nToolbox: Konfliktanalyse\, Emotiogramm\, Leadership Karten u.v.m.
URL:https://znip.academy/event/teamworksplus-gruppe-21-modul-3/
LOCATION:Pilatuspool – Hamburg\, Pilatuspool 7a\, Hamburg\, Niedersachsen\, 20355\, Germany
CATEGORIES:Ausbildung,Modul
ATTACH;FMTTYPE=image/png:https://znip.academy/wp-content/uploads/2024/02/2021-Siegel-TWP-Teamgestalter-300.png
ORGANIZER;CN="Znip Academy":MAILTO:hello@znip.academy
END:VEVENT
BEGIN:VEVENT
DTSTART;VALUE=DATE:20261112
DTEND;VALUE=DATE:20270122
DTSTAMP:20260420T024456
CREATED:20260119T094834Z
LAST-MODIFIED:20260330T120948Z
UID:10000023-1794441600-1800575999@znip.academy
SUMMARY:TeamworksPLUS® Gruppe 21 - Modul 4
DESCRIPTION:Werte- und Kulturwandel\nIm vierten Ausbildungsmodul von TeamworksPLUS® liegt der Schwerpunkt auf Werten und dem Kulturwandel. Wir steigen noch tiefer in Teamcoaching ein und arbeiten Unterschiede zum Coaching von Einzelpersonen praktisch heraus. Auf der Wir-Ebene beschäftigen wir uns mit Werten im Kulturwandel und der Gestaltung von Prozessen und dem Design einer Prozessarchitektur. Auch in diesem Modul haben beide Schwerpunkte jeweils eine Ich- und Wir-Ebene. \n\n\n\n\n\nIch-Ebene: Werte\, Wertekonflikte\, Rollenflexibilität im Teamcoaching\, Double Loop-Coaching\nWir-Ebene: Organisations- und Teamkultur\, Gestaltung und Design von Prozessen\, Purpose und Sinn\nPraxis-Ebene: Einbeziehung von körperorientierten Formen für die Kommunikation (Embodiment)\nToolbox: Worklifestyle® Kulturwandelspiel\, Kulturwandelcanvas\, Prozessarchitektur\, u.v.m.
URL:https://znip.academy/event/teamworksplus-gruppe-21-modul-4/
LOCATION:Pilatuspool – Hamburg\, Pilatuspool 7a\, Hamburg\, Niedersachsen\, 20355\, Germany
CATEGORIES:Ausbildung,Modul
ATTACH;FMTTYPE=image/png:https://znip.academy/wp-content/uploads/2024/02/2021-Siegel-TWP-Teamgestalter-300.png
ORGANIZER;CN="Znip Academy":MAILTO:hello@znip.academy
END:VEVENT
BEGIN:VEVENT
DTSTART;VALUE=DATE:20261126
DTEND;VALUE=DATE:20261129
DTSTAMP:20260420T024456
CREATED:20260119T095419Z
LAST-MODIFIED:20260119T095715Z
UID:10000024-1795651200-1795910399@znip.academy
SUMMARY:TeamworksPLUS® Gruppe 22 - Modul 1
DESCRIPTION:Teams und Entwicklung: Fundamente bauen\nWas sind Teamprozesse? Welche Dynamiken gibt es? Unser Basismodul von TeamworksPLUS® bietet einen komprimierten Grundkurs in Teamentwicklung. Wir vermitteln die wichtigsten gruppendynamischen Konzepte. Das Modul führt Sie ein in die Grundlagen der funktionellen Teamarbeit als essenzielle Basis des Teamentwicklungsprozesses. \n\nIch-Ebene: Emotionen und Entwicklung\, Haltung und Rolle\nWir-Ebene: Teamentwicklungsmodell (Unterschied Teambildung und Teamcoaching)\, Gruppendynamiken\, Teamrollen\, Funktionen und Dysfunktionen\nPraxis-Ebene: Auftragsklärung\, Mikrostrukturen\nToolbox: Teamrollen\, Dysfunktionen\, Teamumfeldanalyse u.v.m.
URL:https://znip.academy/event/teamworksplus-gruppe-22-modul-1/
LOCATION:Courtyard Wolfsburg\, Allerpark 8\, Wolfsburg\, Niedersachsen\, 38448\, Germany
CATEGORIES:Ausbildung,Modul
ATTACH;FMTTYPE=image/png:https://znip.academy/wp-content/uploads/2024/02/2021-Siegel-TWP-Teamgestalter-300.png
ORGANIZER;CN="Znip Academy":MAILTO:hello@znip.academy
END:VEVENT
BEGIN:VEVENT
DTSTART;VALUE=DATE:20270204
DTEND;VALUE=DATE:20270207
DTSTAMP:20260420T024456
CREATED:20260119T095643Z
LAST-MODIFIED:20260330T121019Z
UID:10000025-1801699200-1801958399@znip.academy
SUMMARY:TeamworksPLUS® Gruppe 21 - Modul 5
DESCRIPTION:Innovation und Teamspiele\nIn diesem Modul geht es um die Kunst\, Teamspiele zielgerichtet einzusetzen und auf verschiedenen Leveln auszubauen sowie um Kreativität als Voraussetzung für Innovation und Fortschritt. Auch das Thema High Performance Teams bekommt Raum sowie Methoden aus Werkzeugkoffern wie Design Thinking. \n\nIch-Ebene: Neugier\, Kreativität\, Innovation\, Design Thinking\, High Performance\nWir-Ebene: Teamspiele\, die Sinn machen\nPraxis-Ebene: Wiederholung\nToolbox: Teamklima-Index\, Inselhopping-Framework u.v.m.
URL:https://znip.academy/event/teamworksplus-gruppe-21-modul-5/
LOCATION:Pilatuspool – Hamburg\, Pilatuspool 7a\, Hamburg\, Niedersachsen\, 20355\, Germany
CATEGORIES:Ausbildung,Modul
ATTACH;FMTTYPE=image/png:https://znip.academy/wp-content/uploads/2024/02/2021-Siegel-TWP-Teamgestalter-300.png
ORGANIZER;CN="Znip Academy":MAILTO:hello@znip.academy
END:VEVENT
BEGIN:VEVENT
DTSTART;VALUE=DATE:20270211
DTEND;VALUE=DATE:20270214
DTSTAMP:20260420T024456
CREATED:20260119T095828Z
LAST-MODIFIED:20260119T095828Z
UID:10000026-1802304000-1802563199@znip.academy
SUMMARY:TeamworksPLUS® Gruppe 22 - Modul 2
DESCRIPTION:Persönlichkeit und Veränderung\nIm Ausbildungsmodul “Persönlichkeit und Veränderung” geht es  um die aktive Gestaltung von Veränderungsprozessen auf den Ebenen Ich\, Wir und Praxis. Ein Schwerpunkt auf der Ich-Ebene sind Stärken\, Potenziale als Entwicklungsmöglichkeiten und Motive sowie Motivation für Veränderung. Auf der Wir-Ebene betrachten wir kollektive und emotionale Veränderungsverläufe und lernen Tools und Methoden kennen\, um Veränderung zu reflektieren. Auf der Praxis-Ebene beschäftigen wir uns mit Figurenaufstellungen im Rahmen von persönlicher und organisationaler Veränderung. \n\n\n\n\n\nIch-Ebene: Stärken für des Individuum und die Teampersönlichkeit\, Potenziale als Entwicklungsmöglichkeiten\, Entwicklungsbaum\, Motive und Motivation\nWir-Ebene: Emotionaler Verlauf in Veränderungen\, Haus und Zimmer der Veränderung\nPraxis-Ebene: Figuren-Aufstellungen\, Umgang mit Ängsten\nToolbox: Svenja Hofert’s StärkenNavigator (Online und als Kartenspiel mit Poster)\, Motivduett u.v.m.
URL:https://znip.academy/event/teamworksplus-gruppe-22-modul-2/
LOCATION:Courtyard Wolfsburg\, Allerpark 8\, Wolfsburg\, Niedersachsen\, 38448\, Germany
CATEGORIES:Ausbildung,Modul
ATTACH;FMTTYPE=image/png:https://znip.academy/wp-content/uploads/2024/02/2021-Siegel-TWP-Teamgestalter-300.png
ORGANIZER;CN="Znip Academy":MAILTO:hello@znip.academy
END:VEVENT
BEGIN:VEVENT
DTSTART;VALUE=DATE:20270219
DTEND;VALUE=DATE:20270220
DTSTAMP:20260420T024456
CREATED:20260119T095936Z
LAST-MODIFIED:20260119T095936Z
UID:10000027-1802995200-1803081599@znip.academy
SUMMARY:TeamworksPLUS® Gruppe 21 - Prüfung
DESCRIPTION:Prüfung
URL:https://znip.academy/event/teamworksplus-gruppe-21-pruefung/
LOCATION:Online
CATEGORIES:Ausbildung,Modul
ATTACH;FMTTYPE=image/png:https://znip.academy/wp-content/uploads/2024/02/2021-Siegel-TWP-Teamgestalter-300.png
ORGANIZER;CN="Znip Academy":MAILTO:hello@znip.academy
END:VEVENT
BEGIN:VEVENT
DTSTART;VALUE=DATE:20270311
DTEND;VALUE=DATE:20270314
DTSTAMP:20260420T024456
CREATED:20260119T100352Z
LAST-MODIFIED:20260119T100352Z
UID:10000028-1804723200-1804982399@znip.academy
SUMMARY:TeamworksPLUS® Gruppe 22 - Modul 3
DESCRIPTION:Führung und Konflikte\nWie führt man lateral? Was tun bei Konflikten in Team? Im dritten Ausbildungsmodul TeamworksPLUS® Ausbildung für agile Teamentwicklung stehen die Themen Führung und Konflikte im Zentrum. Sie reflektieren Ihre Haltung und verstehen\, wie sich Führung verteilen lässt. In diesem Modul verteilt sich die Ich- und Wir-Ebene\, d.h. sowohl das Thema Führung als auch Konflikte hat einen Ich- und einen Wir-Anteil. \n\n\n\n\n\nFührung: Leadership (Ich)\, Führungskonzepte\, agile Ansätze\, verteilte Führung (Wir)\nKonflikte: Haltung und Prinzipien (Ich)\, Konflikte in Veränderungssituationen\, Konfliktmoderation (Wir)\nPraxis-Ebene: Umgang mit Widerständen\, Verbesserung der eigenen Feedbackqualität\nToolbox: Konfliktanalyse\, Emotiogramm\, Leadership Karten u.v.m.
URL:https://znip.academy/event/teamworksplus-gruppe-22-modul-3/
LOCATION:Courtyard Wolfsburg\, Allerpark 8\, Wolfsburg\, Niedersachsen\, 38448\, Germany
CATEGORIES:Ausbildung,Modul
ATTACH;FMTTYPE=image/png:https://znip.academy/wp-content/uploads/2024/02/2021-Siegel-TWP-Teamgestalter-300.png
ORGANIZER;CN="Znip Academy":MAILTO:hello@znip.academy
END:VEVENT
BEGIN:VEVENT
DTSTART;VALUE=DATE:20270520
DTEND;VALUE=DATE:20270523
DTSTAMP:20260420T024456
CREATED:20260119T100454Z
LAST-MODIFIED:20260119T100454Z
UID:10000029-1810771200-1811030399@znip.academy
SUMMARY:TeamworksPLUS® Gruppe 22 - Modul 4
DESCRIPTION:Werte- und Kulturwandel\nIm vierten Ausbildungsmodul von TeamworksPLUS® liegt der Schwerpunkt auf Werten und dem Kulturwandel. Wir steigen noch tiefer in Teamcoaching ein und arbeiten Unterschiede zum Coaching von Einzelpersonen praktisch heraus. Auf der Wir-Ebene beschäftigen wir uns mit Werten im Kulturwandel und der Gestaltung von Prozessen und dem Design einer Prozessarchitektur. Auch in diesem Modul haben beide Schwerpunkte jeweils eine Ich- und Wir-Ebene. \n\n\n\n\n\nIch-Ebene: Werte\, Wertekonflikte\, Rollenflexibilität im Teamcoaching\, Double Loop-Coaching\nWir-Ebene: Organisations- und Teamkultur\, Gestaltung und Design von Prozessen\, Purpose und Sinn\nPraxis-Ebene: Einbeziehung von körperorientierten Formen für die Kommunikation (Embodiment)\nToolbox: Worklifestyle® Kulturwandelspiel\, Kulturwandelcanvas\, Prozessarchitektur\, u.v.m.
URL:https://znip.academy/event/teamworksplus-gruppe-22-modul-4/
LOCATION:Courtyard Wolfsburg\, Allerpark 8\, Wolfsburg\, Niedersachsen\, 38448\, Germany
CATEGORIES:Ausbildung,Modul
ATTACH;FMTTYPE=image/png:https://znip.academy/wp-content/uploads/2024/02/2021-Siegel-TWP-Teamgestalter-300.png
ORGANIZER;CN="Znip Academy":MAILTO:hello@znip.academy
END:VEVENT
BEGIN:VEVENT
DTSTART;VALUE=DATE:20270916
DTEND;VALUE=DATE:20270919
DTSTAMP:20260420T024456
CREATED:20260119T100558Z
LAST-MODIFIED:20260119T100558Z
UID:10000030-1821052800-1821311999@znip.academy
SUMMARY:TeamworksPLUS® Gruppe 22 - Modul 5
DESCRIPTION:Innovation und Teamspiele\nIn diesem Modul geht es um die Kunst\, Teamspiele zielgerichtet einzusetzen und auf verschiedenen Leveln auszubauen sowie um Kreativität als Voraussetzung für Innovation und Fortschritt. Auch das Thema High Performance Teams bekommt Raum sowie Methoden aus Werkzeugkoffern wie Design Thinking. \n\nIch-Ebene: Neugier\, Kreativität\, Innovation\, Design Thinking\, High Performance\nWir-Ebene: Teamspiele\, die Sinn machen\nPraxis-Ebene: Wiederholung\nToolbox: Teamklima-Index\, Inselhopping-Framework u.v.m.
URL:https://znip.academy/event/teamworksplus-gruppe-22-modul-5/
LOCATION:Courtyard Wolfsburg\, Allerpark 8\, Wolfsburg\, Niedersachsen\, 38448\, Germany
CATEGORIES:Ausbildung,Modul
ATTACH;FMTTYPE=image/png:https://znip.academy/wp-content/uploads/2024/02/2021-Siegel-TWP-Teamgestalter-300.png
ORGANIZER;CN="Znip Academy":MAILTO:hello@znip.academy
END:VEVENT
BEGIN:VEVENT
DTSTART;VALUE=DATE:20271105
DTEND;VALUE=DATE:20271106
DTSTAMP:20260420T024456
CREATED:20260119T100705Z
LAST-MODIFIED:20260119T100705Z
UID:10000031-1825372800-1825459199@znip.academy
SUMMARY:TeamworksPLUS® Gruppe 22 - Prüfung
DESCRIPTION:Prüfung
URL:https://znip.academy/event/teamworksplus-gruppe-22-pruefung/
LOCATION:Online
CATEGORIES:Ausbildung,Modul
ATTACH;FMTTYPE=image/png:https://znip.academy/wp-content/uploads/2024/02/2021-Siegel-TWP-Teamgestalter-300.png
ORGANIZER;CN="Znip Academy":MAILTO:hello@znip.academy
END:VEVENT
END:VCALENDAR